BEGIN:VCALENDAR
VERSION:2.0
PRODID:-//OCHN - ECPv6.15.14//NONSGML v1.0//EN
CALSCALE:GREGORIAN
METHOD:PUBLISH
X-WR-CALNAME:OCHN
X-ORIGINAL-URL:https://oaklandchn.org
X-WR-CALDESC:Events for OCHN
REFRESH-INTERVAL;VALUE=DURATION:PT1H
X-Robots-Tag:noindex
X-PUBLISHED-TTL:PT1H
BEGIN:VTIMEZONE
TZID:America/New_York
BEGIN:DAYLIGHT
TZOFFSETFROM:-0500
TZOFFSETTO:-0400
TZNAME:EDT
DTSTART:20250309T070000
END:DAYLIGHT
BEGIN:STANDARD
TZOFFSETFROM:-0400
TZOFFSETTO:-0500
TZNAME:EST
DTSTART:20251102T060000
END:STANDARD
BEGIN:DAYLIGHT
TZOFFSETFROM:-0500
TZOFFSETTO:-0400
TZNAME:EDT
DTSTART:20260308T070000
END:DAYLIGHT
BEGIN:STANDARD
TZOFFSETFROM:-0400
TZOFFSETTO:-0500
TZNAME:EST
DTSTART:20261101T060000
END:STANDARD
BEGIN:DAYLIGHT
TZOFFSETFROM:-0500
TZOFFSETTO:-0400
TZNAME:EDT
DTSTART:20270314T070000
END:DAYLIGHT
BEGIN:STANDARD
TZOFFSETFROM:-0400
TZOFFSETTO:-0500
TZNAME:EST
DTSTART:20271107T060000
END:STANDARD
END:VTIMEZONE
BEGIN:VEVENT
DTSTART;TZID=America/New_York:20260420T120000
DTEND;TZID=America/New_York:20260420T160000
DTSTAMP:20260420T023503
CREATED:20260326T144030Z
LAST-MODIFIED:20260417T192340Z
UID:10000341-1776686400-1776700800@oaklandchn.org
SUMMARY:New Hire Rights Training - 4/20/26
DESCRIPTION:NEW: Effective 1/1/25\, virtual training MUST be taken on a computer. Phones\, iPads\, tablets and other devices are no longer permitted. If you can not take this training on a computer\, please register for a live\, in-person\, training.\nAt this time\, we can only accommodate Oakland provider staff in the New Hire Rights Training.\nDetroit-Wayne (DWIHN)\, Macomb CMH\, and other county staff must take training in their respective counties. \nThe New Hire Rights training is required for contracted providers and employees within the first 30 days of employment per Oakland Community Health Network (OCHN) policy. Any questions call 248-858-1795. \nLocation: This training will be offered in a live webinar format via Microsoft Teams. Participants must use Microsoft Teams to participate. Login information will be sent a day prior to the training. Click here for guidance. \nRegistration: All attendees need to provide the following information to register: \n\nYour EXACT date of hire with your current employer. Call your HR Department if you don’t know.\nDate of most recent hire (training must be taken with 30 days of this hire date)\nEmail address\nEmployer/Provider/Agency name\, email address and phone number\n\nQuestions/Special Accommodations: If you require special ADA accommodations\, please call 248-858-1795 at least ten (10) days prior to the scheduled training to make arrangements. he training certificate is dependent upon the successful completion of the test\, given only at the end of the training.
URL:https://oaklandchn.org/event/new-hire-rights-training-4-20-26/
LOCATION:Virtual
END:VEVENT
END:VCALENDAR